BEGIN:VCALENDAR
VERSION:2.0
PRODID:-//Rosalie Puiman | Leadership Coach + Team Facilitator - ECPv6.15.17.1//NONSGML v1.0//EN
CALSCALE:GREGORIAN
METHOD:PUBLISH
X-ORIGINAL-URL:https://rosaliepuiman.com
X-WR-CALDESC:Events for Rosalie Puiman | Leadership Coach + Team Facilitator
REFRESH-INTERVAL;VALUE=DURATION:PT1H
X-Robots-Tag:noindex
X-PUBLISHED-TTL:PT1H
BEGIN:VTIMEZONE
TZID:Europe/Paris
BEGIN:DAYLIGHT
TZOFFSETFROM:+0100
TZOFFSETTO:+0200
TZNAME:CEST
DTSTART:20230326T010000
END:DAYLIGHT
BEGIN:STANDARD
TZOFFSETFROM:+0200
TZOFFSETTO:+0100
TZNAME:CET
DTSTART:20231029T010000
END:STANDARD
BEGIN:DAYLIGHT
TZOFFSETFROM:+0100
TZOFFSETTO:+0200
TZNAME:CEST
DTSTART:20240331T010000
END:DAYLIGHT
BEGIN:STANDARD
TZOFFSETFROM:+0200
TZOFFSETTO:+0100
TZNAME:CET
DTSTART:20241027T010000
END:STANDARD
BEGIN:DAYLIGHT
TZOFFSETFROM:+0100
TZOFFSETTO:+0200
TZNAME:CEST
DTSTART:20250330T010000
END:DAYLIGHT
BEGIN:STANDARD
TZOFFSETFROM:+0200
TZOFFSETTO:+0100
TZNAME:CET
DTSTART:20251026T010000
END:STANDARD
BEGIN:DAYLIGHT
TZOFFSETFROM:+0100
TZOFFSETTO:+0200
TZNAME:CEST
DTSTART:20260329T010000
END:DAYLIGHT
BEGIN:STANDARD
TZOFFSETFROM:+0200
TZOFFSETTO:+0100
TZNAME:CET
DTSTART:20261025T010000
END:STANDARD
BEGIN:DAYLIGHT
TZOFFSETFROM:+0100
TZOFFSETTO:+0200
TZNAME:CEST
DTSTART:20270328T010000
END:DAYLIGHT
BEGIN:STANDARD
TZOFFSETFROM:+0200
TZOFFSETTO:+0100
TZNAME:CET
DTSTART:20271031T010000
END:STANDARD
END:VTIMEZONE
BEGIN:VEVENT
DTSTART;TZID=Europe/Paris:20241128T093000
DTEND;TZID=Europe/Paris:20241130T170000
DTSTAMP:20260422T234923
CREATED:20240902T151644Z
LAST-MODIFIED:20240902T152049Z
UID:9017-1732786200-1732986000@rosaliepuiman.com
SUMMARY:ThetaHealing Basic Seminar
DESCRIPTION:ThetaHealing is a powerful healing modality you can easily learn & start applying to yourself and others immediately after the seminar. Learning the technique with Rosalie is a lighthearted\, deep & joyful \nGet all information about this seminar here. \nPurchase your ticket here
URL:https://rosaliepuiman.com/event/thetahealing-basic-seminar/
CATEGORIES:ThetaHealing Seminars
END:VEVENT
BEGIN:VEVENT
DTSTART;TZID=Europe/Paris:20250507T093000
DTEND;TZID=Europe/Paris:20250509T170000
DTSTAMP:20260422T234923
CREATED:20250326T131708Z
LAST-MODIFIED:20250326T131708Z
UID:9218-1746610200-1746810000@rosaliepuiman.com
SUMMARY:ThetaHealing Basic DNA course
DESCRIPTION:ThetaHealing is an energy healing modality that works with the Quantum field. \nEnergy is pliable and available\, and with the techniques you learn in this  3-day seminar you’re able to work with Source energy to (among many other things): \n\nheal past trauma (big and small)\novercome limiting beliefs\ndownload feelings and behaviours\nconnect to your higher self and guides\n\nThis seminar is for you if: \n\nyou sense there’s more than just our physical world\nyou want to take your healing in your own hands\nbe able to immediately shift beliefs\, reactions and behaviours\nyou’re open to stretching your beliefs\nwilling to trust the process
URL:https://rosaliepuiman.com/event/thetahealing-basic-dna-course/
END:VEVENT
BEGIN:VEVENT
DTSTART;TZID=Europe/Paris:20260301T080000
DTEND;TZID=Europe/Paris:20261231T170000
DTSTAMP:20260422T234923
CREATED:20251222T111837Z
LAST-MODIFIED:20251222T111856Z
UID:9418-1772352000-1798736400@rosaliepuiman.com
SUMMARY:Regenerative Leadership-Cohort 1
DESCRIPTION:An 8-Module Journey – For Leaders Shaping the Future\n\n\nA Journey through the seasons \n\n\n\n\n\n\n\n\n\nIn 2026\, a select cohort of visionary leaders will gather on a regenerative farm to step into a new paradigm of leadership—one that is grounded\, conscious\, connected\, and deeply attuned to the living systems we are part of.
URL:https://rosaliepuiman.com/event/regenerative-leadership-cohort-1/
LOCATION:Little Dutch Farm\, Wijdenes\, Netherlands
END:VEVENT
END:VCALENDAR